{
 "currentVersion": 10.91,
 "serviceDescription": "This aerial mosaic dataset was produced from 1938 -1939 historical black and white aerial photographs for Hillsborough County, Florida.The historical aerial tiles of 1938-1939 Aerial Photographs were from FDOT Aerial Archive and Theonline Aerial Photography: Florida Collection(http://ufdc.ufl.edu/aerials), The University of Florida Map & Imagery Library.These aerials were photographed from November 1938 through January 1939 and published by United States Department of AgricultureThese aerial photographs were georeferenced, clipped/cropped and mosaicked them to create one image dataset covering Hillsborough County. Please note, the images are intended for education, historical evaluations, and general historical information only, not for measurement use or as legal documents. ",
 "name": "Aerials/HC_Aerials1938_WGS",
 "description": "This aerial mosaic dataset was produced from 1938 -1939 historical black and white aerial photographs for Hillsborough County, Florida.The historical aerial tiles of 1938-1939 Aerial Photographs were from FDOT Aerial Archive and Theonline Aerial Photography: Florida Collection(http://ufdc.ufl.edu/aerials), The University of Florida Map & Imagery Library.These aerials were photographed from November 1938 through January 1939 and published by United States Department of AgricultureThese aerial photographs were georeferenced, clipped/cropped and mosaicked them to create one image dataset covering Hillsborough County. Please note, the images are intended for education, historical evaluations, and general historical information only, not for measurement use or as legal documents. ",
 "extent": {
  "xmin": 439826.7590845622,
  "ymin": 1202193.8787718916,
  "xmax": 644831.7590845622,
  "ymax": 1396811.3787718916,
  "spatialReference": {
   "wkid": 102659,
   "latestWkid": 2237
  }
 },
 "initialExtent": {
  "xmin": 439826.7590845622,
  "ymin": 1202193.8787718916,
  "xmax": 644831.7590845622,
  "ymax": 1396811.3787718916,
  "spatialReference": {
   "wkid": 102659,
   "latestWkid": 2237
  }
 },
 "fullExtent": {
  "xmin": 439826.7590845622,
  "ymin": 1202193.8787718916,
  "xmax": 644831.7590845622,
  "ymax": 1396811.3787718916,
  "spatialReference": {
   "wkid": 102659,
   "latestWkid": 2237
  }
 },
 "pixelSizeX": 2.5,
 "pixelSizeY": 2.5,
 "bandCount": 1,
 "pixelType": "U8",
 "minPixelSize": 0,
 "maxPixelSize": 0,
 "copyrightText": "egis",
 "serviceDataType": "esriImageServiceDataTypeGeneric",
 "minValues": [
  0
 ],
 "maxValues": [
  255
 ],
 "meanValues": [
  89.161024932487
 ],
 "stdvValues": [
  57.061866102196
 ],
 "objectIdField": "",
 "fields": [],
 "capabilities": "Image,Metadata,Mensuration",
 "defaultMosaicMethod": "Center",
 "allowedMosaicMethods": "",
 "sortField": "",
 "sortValue": null,
 "sortAscending": true,
 "mosaicOperator": "First",
 "defaultCompressionQuality": 75,
 "defaultResamplingMethod": "Bilinear",
 "maxImageHeight": 4100,
 "maxImageWidth": 15000,
 "allowRasterFunction": true,
 "rasterFunctionInfos": [
  {
   "name": "None",
   "description": "",
   "help": ""
  }
 ],
 "rasterTypeInfos": [
  {
   "name": "Raster Dataset",
   "description": "Supports all ArcGIS Raster Datasets",
   "help": ""
  }
 ],
 "mensurationCapabilities": "Basic",
 "hasHistograms": true,
 "hasColormap": false,
 "hasRasterAttributeTable": false,
 "minScale": 0,
 "maxScale": 0,
 "exportTilesAllowed": false,
 "hasMultidimensions": false,
 "supportsStatistics": false,
 "supportsAdvancedQueries": false,
 "editFieldsInfo": null,
 "ownershipBasedAccessControlForRasters": null,
 "allowComputeTiePoints": false,
 "useStandardizedQueries": true,
 "advancedQueryCapabilities": {
  "useStandardizedQueries": true,
  "supportsStatistics": false,
  "supportsOrderBy": false,
  "supportsDistinct": false,
  "supportsPagination": false
 },
 "spatialReference": {
  "wkid": 102659,
  "latestWkid": 2237
 }
}
