{ "currentVersion": 10.91, "serviceDescription": "
The dataset consists of tiled orthogonal imagery produced from nadir images captured by Pictometry International. Automatic aerial triangulation (AAT) was performed. The triangulated frames were rectified to a DEM. Mosaicking was performed using an automatic seaming algorithm and manually edited to eliminate seams through elevated features where possible.Imagery was obtained between the dates November 2nd, 2022 \u2013 January 6th, 2023 . The raster mosaic is reprojected to <\/SPAN>WGS_1984_Web_Mercator_Auxiliary_Sphere from NAD_1983_2011_StatePlane_Florida_West_FIPS_0902_Ft_US for Image service.<\/SPAN><\/P> <\/P><\/DIV><\/DIV><\/DIV>",
"name": "Aerials/HC_Aerials_2023_WGS",
"description": " The dataset consists of tiled orthogonal imagery produced from nadir images captured by Pictometry International. Automatic aerial triangulation (AAT) was performed. The triangulated frames were rectified to a DEM. Mosaicking was performed using an automatic seaming algorithm and manually edited to eliminate seams through elevated features where possible.Imagery was obtained between the dates November 2nd, 2022 \u2013 January 6th, 2023 . The raster mosaic is reprojected to <\/SPAN>WGS_1984_Web_Mercator_Auxiliary_Sphere from NAD_1983_2011_StatePlane_Florida_West_FIPS_0902_Ft_US for Image service.<\/SPAN><\/P> <\/P><\/DIV><\/DIV><\/DIV>",
"extent": {
"xmin": -9214541.2401,
"ymin": 3194120.778880745,
"xmax": -9133757.038931597,
"ymax": 3272330.4054999985,
"spatialReference": {
"wkid": 102100,
"latestWkid": 3857
}
},
"initialExtent": {
"xmin": -9214541.2401,
"ymin": 3194120.778880745,
"xmax": -9133757.038931597,
"ymax": 3272330.4054999985,
"spatialReference": {
"wkid": 102100,
"latestWkid": 3857
}
},
"fullExtent": {
"xmin": -9214541.2401,
"ymin": 3194120.778880745,
"xmax": -9133757.038931597,
"ymax": 3272330.4054999985,
"spatialReference": {
"wkid": 102100,
"latestWkid": 3857
}
},
"pixelSizeX": 0.07620015240030545,
"pixelSizeY": 0.07620015240030487,
"bandCount": 4,
"pixelType": "U8",
"minPixelSize": 0.07464553541190416,
"maxPixelSize": 152.87405657041106,
"copyrightText": "Pictometry International/Hillsborough County Property Appraiser Office.",
"serviceDataType": "esriImageServiceDataTypeGeneric",
"minValues": [
0.08715596330275233,
0.08986175115207373,
0.14321608040201006,
0
],
"maxValues": [
254.91284403669727,
254.91013824884791,
254.856783919598,
255
],
"meanValues": [
142.26917431192635,
139.8214746543778,
115.72994974874372,
255
],
"stdvValues": [
44.75118286562948,
38.294849285097285,
32.362305927389,
0
],
"objectIdField": "OBJECTID",
"fields": [
{
"name": "OBJECTID",
"type": "esriFieldTypeOID",
"alias": "OBJECTID",
"domain": null
},
{
"name": "Shape",
"type": "esriFieldTypeGeometry",
"alias": "Shape",
"domain": null
},
{
"name": "Name",
"type": "esriFieldTypeString",
"alias": "Name",
"domain": null,
"length": 200
},
{
"name": "MinPS",
"type": "esriFieldTypeDouble",
"alias": "MinPS",
"domain": null
},
{
"name": "MaxPS",
"type": "esriFieldTypeDouble",
"alias": "MaxPS",
"domain": null
},
{
"name": "LowPS",
"type": "esriFieldTypeDouble",
"alias": "LowPS",
"domain": null
},
{
"name": "HighPS",
"type": "esriFieldTypeDouble",
"alias": "HighPS",
"domain": null
},
{
"name": "Category",
"type": "esriFieldTypeInteger",
"alias": "Category",
"domain": {
"type": "codedValue",
"name": "MosaicCatalogItemCategoryDomain",
"description": "Catalog item categories.",
"codedValues": [
{
"name": "Unknown",
"code": 0
},
{
"name": "Primary",
"code": 1
},
{
"name": "Overview",
"code": 2
},
{
"name": "Unprocessed Overview",
"code": 3
},
{
"name": "Partial Overview",
"code": 4
},
{
"name": "Inactive",
"code": 5
},
{
"name": "Uploaded",
"code": 253
},
{
"name": "Incomplete",
"code": 254
},
{
"name": "Custom",
"code": 255
}
],
"mergePolicy": "esriMPTDefaultValue",
"splitPolicy": "esriSPTDefaultValue"
}
},
{
"name": "Tag",
"type": "esriFieldTypeString",
"alias": "Tag",
"domain": null,
"length": 100
},
{
"name": "GroupName",
"type": "esriFieldTypeString",
"alias": "GroupName",
"domain": null,
"length": 100
},
{
"name": "ProductName",
"type": "esriFieldTypeString",
"alias": "ProductName",
"domain": null,
"length": 100
},
{
"name": "CenterX",
"type": "esriFieldTypeDouble",
"alias": "CenterX",
"domain": null
},
{
"name": "CenterY",
"type": "esriFieldTypeDouble",
"alias": "CenterY",
"domain": null
},
{
"name": "ZOrder",
"type": "esriFieldTypeInteger",
"alias": "ZOrder",
"domain": null
},
{
"name": "Shape_Length",
"type": "esriFieldTypeDouble",
"alias": "Shape_Length",
"domain": null
},
{
"name": "Shape_Area",
"type": "esriFieldTypeDouble",
"alias": "Shape_Area",
"domain": null
}
],
"capabilities": "Image,Metadata,Catalog,Mensuration",
"defaultMosaicMethod": "Northwest",
"allowedMosaicMethods": "NorthWest,Center,LockRaster,ByAttribute,Nadir,Viewpoint,Seamline,None",
"sortField": "",
"sortValue": null,
"sortAscending": true,
"mosaicOperator": "First",
"maxDownloadSizeLimit": 2048,
"defaultCompressionQuality": 75,
"defaultResamplingMethod": "Bilinear",
"maxImageHeight": 4100,
"maxImageWidth": 15000,
"maxRecordCount": 1000,
"maxDownloadImageCount": 20,
"maxMosaicImageCount": 42,
"singleFusedMapCache": true,
"tileInfo": {
"rows": 256,
"cols": 256,
"dpi": 96,
"format": "MIXED",
"compressionQuality": 75,
"origin": {
"x": -20037700,
"y": 30241100
},
"spatialReference": {
"wkid": 102100,
"latestWkid": 3857
},
"lods": [
{
"level": 0,
"resolution": 152.87405657041106,
"scale": 577790.554289
},
{
"level": 1,
"resolution": 76.43702828507324,
"scale": 288895.277144
},
{
"level": 2,
"resolution": 38.21851414253662,
"scale": 144447.638572
},
{
"level": 3,
"resolution": 19.10925707126831,
"scale": 72223.819286
},
{
"level": 4,
"resolution": 9.554628535634155,
"scale": 36111.909643
},
{
"level": 5,
"resolution": 4.77731426794937,
"scale": 18055.954822
},
{
"level": 6,
"resolution": 2.388657133974685,
"scale": 9027.977411
},
{
"level": 7,
"resolution": 1.1943285668550503,
"scale": 4513.988705
},
{
"level": 8,
"resolution": 0.5971642835598172,
"scale": 2256.994353
},
{
"level": 9,
"resolution": 0.29858214164761665,
"scale": 1128.497176
},
{
"level": 10,
"resolution": 0.14929107082380833,
"scale": 564.248588
},
{
"level": 11,
"resolution": 0.07464553541190416,
"scale": 282.124294
}
]
},
"cacheType": "Map",
"allowRasterFunction": true,
"rasterFunctionInfos": [
{
"name": "None",
"description": "Make a Raster or Raster Dataset into a Function Raster Dataset.",
"help": ""
}
],
"rasterTypeInfos": [
{
"name": "Raster Dataset",
"description": "Supports all ArcGIS Raster Datasets",
"help": ""
}
],
"mensurationCapabilities": "Basic",
"hasHistograms": true,
"hasColormap": false,
"hasRasterAttributeTable": false,
"minScale": 577790.554289,
"maxScale": 282.124294,
"exportTilesAllowed": false,
"hasMultidimensions": false,
"supportsStatistics": true,
"supportsAdvancedQueries": true,
"editFieldsInfo": null,
"ownershipBasedAccessControlForRasters": null,
"allowComputeTiePoints": false,
"useStandardizedQueries": true,
"advancedQueryCapabilities": {
"useStandardizedQueries": true,
"supportsStatistics": true,
"supportsOrderBy": true,
"supportsDistinct": true,
"supportsPagination": true
},
"spatialReference": {
"wkid": 102100,
"latestWkid": 3857
}
}