<?xml version="1.0" encoding="UTF-8" standalone="no"?>
<metadata xml:lang="en">
<Esri>
<CreaDate>20200226</CreaDate>
<CreaTime>15272000</CreaTime>
<ArcGISFormat>1.0</ArcGISFormat>
<ArcGISstyle>FGDC CSDGM Metadata</ArcGISstyle>
<SyncOnce>FALSE</SyncOnce>
<DataProperties>
<lineage>
<Process Date="20200226" Name="" Time="152720" ToolSource="c:\program files (x86)\arcgis\desktop10.5\ArcToolbox\Toolboxes\Spatial Analyst Tools.tbx\RasterCalculator" export="">RasterCalculator ""n767demmosaic" * 0.3048" L:\HC_LiDAR_Derivatives\2017DEM_Derivative_Products\LiDAR2017_DEM_Derivatives.gdb\n767demmosaic_m</Process>
<Process Date="20200227" Name="" Time="075136" ToolSource="c:\program files (x86)\arcgis\desktop10.5\ArcToolbox\Toolboxes\Data Management Tools.tbx\BuildPyramids" export="">BuildPyramids L:\HC_LiDAR_Derivatives\2017DEM_Derivative_Products\LiDAR2017_DEM_Derivatives.gdb\n767demmosaic_m -1 NONE BILINEAR DEFAULT 75 OVERWRITE</Process>
<Process Date="20200227" Name="" Time="184922" ToolSource="c:\program files\arcgis\pro\Resources\ArcToolbox\toolboxes\Data Management Tools.tbx\ProjectRaster" export="">ProjectRaster L:\HC_LiDAR_Derivatives\2017DEM_Derivative_Products\LiDAR2017_DEM_Derivatives.gdb\n767demmosaic_m L:\HC_LiDAR_Derivatives\2017DEM_Derivative_Products\LiDAR2017_DEM_Derivatives.gdb\n767demmosaic_WGS84_m PROJCS['WGS_1984_Web_Mercator_Auxiliary_Sphere',GEOGCS['GCS_WGS_1984',DATUM['D_WGS_1984',SPHEROID['WGS_1984',6378137.0,298.257223563]],PRIMEM['Greenwich',0.0],UNIT['Degree',0.0174532925199433]],PROJECTION['Mercator_Auxiliary_Sphere'],PARAMETER['False_Easting',0.0],PARAMETER['False_Northing',0.0],PARAMETER['Central_Meridian',0.0],PARAMETER['Standard_Parallel_1',0.0],PARAMETER['Auxiliary_Sphere_Type',0.0],UNIT['Meter',1.0]] "Bilinear interpolation" "0.762001524003048 0.762001524003048" WGS_1984_(ITRF08)_To_NAD_1983_2011 # PROJCS['NAD_1983_2011_StatePlane_Florida_West_FIPS_0902_Ft_US',GEOGCS['GCS_NAD_1983_2011',DATUM['D_NAD_1983_2011',SPHEROID['GRS_1980',6378137.0,298.257222101]],PRIMEM['Greenwich',0.0],UNIT['Degree',0.0174532925199433]],PROJECTION['Transverse_Mercator'],PARAMETER['False_Easting',656166.6666666665],PARAMETER['False_Northing',0.0],PARAMETER['Central_Meridian',-82.0],PARAMETER['Scale_Factor',0.9999411764705882],PARAMETER['Latitude_Of_Origin',24.33333333333333],UNIT['Foot_US',0.3048006096012192]],VERTCS['NAVD88_height_(ftUS)',VDATUM['North_American_Vertical_Datum_1988'],PARAMETER['Vertical_Shift',0.0],PARAMETER['Direction',1.0],UNIT['Foot_US',0.3048006096012192]] NO_VERTICAL</Process>
</lineage>
<itemProps>
<itemName Sync="TRUE">n767demmosaic_WGS84_m</itemName>
<imsContentType Sync="TRUE">002</imsContentType>
<nativeExtBox>
<westBL Sync="TRUE">-9201169.999878</westBL>
<eastBL Sync="TRUE">-9133756.487051</eastBL>
<southBL Sync="TRUE">3202835.000122</southBL>
<northBL Sync="TRUE">3272331.063114</northBL>
<exTypeCode Sync="TRUE">1</exTypeCode>
</nativeExtBox>
<itemLocation>
<linkage Sync="TRUE">file://\\gis-ver\gisshare\LIDAR test\LIDAR2017_meters\Data\LiDAR2017_DEM_WGS84_m.gdb</linkage>
<protocol Sync="TRUE">Local Area Network</protocol>
</itemLocation>
</itemProps>
<coordRef>
<type Sync="TRUE">Projected</type>
<geogcsn Sync="TRUE">GCS_WGS_1984</geogcsn>
<csUnits Sync="TRUE">Linear Unit: Meter (1.000000)</csUnits>
<projcsn Sync="TRUE">WGS_1984_Web_Mercator_Auxiliary_Sphere</projcsn>
<peXml Sync="TRUE">&lt;ProjectedCoordinateSystem xsi:type='typens:ProjectedCoordinateSystem' xmlns:xsi='http://www.w3.org/2001/XMLSchema-instance' xmlns:xs='http://www.w3.org/2001/XMLSchema' xmlns:typens='http://www.esri.com/schemas/ArcGIS/10.7'&gt;&lt;WKT&gt;PROJCS[&amp;quot;WGS_1984_Web_Mercator_Auxiliary_Sphere&amp;quot;,GEOGCS[&amp;quot;GCS_WGS_1984&amp;quot;,DATUM[&amp;quot;D_WGS_1984&amp;quot;,SPHEROID[&amp;quot;WGS_1984&amp;quot;,6378137.0,298.257223563]],PRIMEM[&amp;quot;Greenwich&amp;quot;,0.0],UNIT[&amp;quot;Degree&amp;quot;,0.0174532925199433]],PROJECTION[&amp;quot;Mercator_Auxiliary_Sphere&amp;quot;],PARAMETER[&amp;quot;False_Easting&amp;quot;,0.0],PARAMETER[&amp;quot;False_Northing&amp;quot;,0.0],PARAMETER[&amp;quot;Central_Meridian&amp;quot;,0.0],PARAMETER[&amp;quot;Standard_Parallel_1&amp;quot;,0.0],PARAMETER[&amp;quot;Auxiliary_Sphere_Type&amp;quot;,0.0],UNIT[&amp;quot;Meter&amp;quot;,1.0],AUTHORITY[&amp;quot;EPSG&amp;quot;,3857]]&lt;/WKT&gt;&lt;XOrigin&gt;-20037700&lt;/XOrigin&gt;&lt;YOrigin&gt;-30241100&lt;/YOrigin&gt;&lt;XYScale&gt;148923141.92838538&lt;/XYScale&gt;&lt;ZOrigin&gt;-100000&lt;/ZOrigin&gt;&lt;ZScale&gt;10000&lt;/ZScale&gt;&lt;MOrigin&gt;-100000&lt;/MOrigin&gt;&lt;MScale&gt;10000&lt;/MScale&gt;&lt;XYTolerance&gt;0.001&lt;/XYTolerance&gt;&lt;ZTolerance&gt;0.001&lt;/ZTolerance&gt;&lt;MTolerance&gt;0.001&lt;/MTolerance&gt;&lt;HighPrecision&gt;true&lt;/HighPrecision&gt;&lt;WKID&gt;102100&lt;/WKID&gt;&lt;LatestWKID&gt;3857&lt;/LatestWKID&gt;&lt;/ProjectedCoordinateSystem&gt;</peXml>
</coordRef>
</DataProperties>
<SyncDate>20230126</SyncDate>
<SyncTime>12140700</SyncTime>
<ModDate>20230126</ModDate>
<ModTime>12140700</ModTime>
<scaleRange>
<minScale>150000000</minScale>
<maxScale>5000</maxScale>
</scaleRange>
<ArcGISProfile>FGDC</ArcGISProfile>
</Esri>
<dataIdInfo>
<envirDesc Sync="TRUE">Microsoft Windows Server 2008 R2 Version 6.1 (Build 7601) Service Pack 1; Esri ArcGIS 10.7.1.11595</envirDesc>
<dataLang>
<languageCode Sync="TRUE" value="eng"/>
<countryCode Sync="TRUE" value="USA"/>
</dataLang>
<idCitation>
<resTitle Sync="TRUE">n767demmosaic_WGS84_m</resTitle>
<presForm>
<PresFormCd Sync="TRUE" value="011"/>
</presForm>
</idCitation>
<spatRpType>
<SpatRepTypCd Sync="TRUE" value="002"/>
</spatRpType>
<dataExt>
<geoEle>
<GeoBndBox esriExtentType="search">
<exTypeCode Sync="TRUE">1</exTypeCode>
<westBL Sync="TRUE">-82.655516</westBL>
<eastBL Sync="TRUE">-82.049931</eastBL>
<northBL Sync="TRUE">28.185102</northBL>
<southBL Sync="TRUE">27.633424</southBL>
</GeoBndBox>
</geoEle>
</dataExt>
<idPurp>This re-projected 2017 LiDAR DEM shows the elevation value in meters. 2017 DEM was reprojected to WGS84 Web Mercator (Auxiliary Sphere) for horizonal coordinate system from NAD 1983(2011), State Plane Florida West. Horizonal units is in meter. The Vertical datum is North American Vertical Datum of 1988 (NAVD88), Units in meter which was converted from U.S. Survey Feet by multiplying 0.3048. This converted DEM (unit meter) is for 3D websecene application purposes, and do not use for modelling purposes.</idPurp>
<idAbs>This re-projected 2017 LiDAR DEM shows the elevation value in meters. 2017 DEM was reprojected to WGS84 Web Mercator (Auxiliary Sphere) for horizonal coordinate system from NAD 1983(2011), State Plane Florida West. This conversion used the Esri transformation WGS_1984_(ITRF08)_To_NAD_1983_2011 and a bilinear interpolation for resampling. Horizonal units is in meter.The Vertical datum is North American Vertical Datum of 1988 (NAVD88), Units in meter which was converted from U.S. Survey Feet by multiplying 0.3048. This converted DEM (unit meter) is for 3D webscene application purposes, and do not use for modelling purposes. &lt;p style='margin:0 0 11 0;'&gt;&lt;span&gt;The DEMs model the bare-earth surface and are enforced with the 3D breaklines created for this project. All tiled DEMs were mosaicked by SWFWMD to cover Hillsborough County.Dewberry collected 1200 square miles of lidar data from January 31, 2017 through March 04, 2017 in Hillsborough County, Florida. The nominal pulse spacing for this project was 1 point every 0.25 meters or a nominal pulse density of 16 points per square meter. Dewberrry used proprietary procedures to classify the LAS according to project specifications: 1-Unclassified, 2-Ground, 6-Building Rooftops, 7-Low Noise, 9-Water, 17- Bridge Decks, 18-High Noise. Geometrically unreliable points, ground points within 2 feet of breaklines, and ground points within 3 feet of building rooftops have been identified with the Withheld Flag. Overage points have been identified with the Overlap Flag. The lidar data were combined with 3D breaklines compiled by Dewberry to create hydro-enforced bare-earth DEMs. The data were tiled according to the Florida Statewide Lidar Index tiling scheme with each tile covering an area of 5,000 feet by 5,000 ft. &lt;/span&gt;&lt;/p&gt;</idAbs>
<resConst>
<Consts>
<useLimit>Hillsborough County makes no warranty, representation or guarantee as to the content, sequence, accuracy, timeliness, or completeness of any of the information provided herein. The reader should not rely on the data provided herein for any reason. Hillsborough County explicitly disclaims any representations and warranties, including, without limitation, the implied warranties of merchantability and fitness for a particular purpose. Hillsborough County shall assume no liability for: 1. Any errors, omissions, or inaccuracies in the information provided regardless of how caused; or 2. Any decision made or action taken or not taken by any person in reliance upon any information or data furnished hereunder. This dataset is provided by Hillsborough County for informational purposes and Hillsborough County does not guarantee the accuracy or content of the data. Hillsborough County is not liable for any deficiencies in the dataset or analyses/applications using the dataset. This data should not be construed as legal advice or legal opinion on any specific facts or circumstances. The contents are intended for general information purposes only, and you are urged to consult your own lawyer concerning your own situation and any specific questions you may have. Infrastructure records, drawings, and other documents have been gathered over many decades, using differing standards for quality control, documentation and verification. All of the data provided represents current information in a readily available format. While the data is generally believed to be accurate, occasionally it proves to be incorrect; thus its accuracy is not warranted. Prior to making any property purchases or investments, or taking any other action based in full or in part upon the material provided, it is specifically advised that you independently field verify the information contained in county records.&lt;/span&gt;&lt;/span&gt;&lt;/p&gt;&lt;p&gt;&lt;p&gt;&lt;span /&gt;&lt;/p&gt;</useLimit>
</Consts>
</resConst>
<idCredit>Geospatial Services Division, Hillsborough County.601 E. Kennedy Blvd., Tampa, FL 33602Data sources: 2017 Digital Elevation Model (DEM) (unit feet): Southwest Florida Water Management District, 2379 Broad Street, Brooksville, Florida 34604-6899.</idCredit>
<searchKeys>
<keyword>DEM</keyword>
</searchKeys>
</dataIdInfo>
<mdLang>
<languageCode Sync="TRUE" value="eng"/>
<countryCode Sync="TRUE" value="USA"/>
</mdLang>
<distInfo>
<distFormat>
<formatName Sync="TRUE">File Geodatabase Raster Dataset</formatName>
</distFormat>
</distInfo>
<mdHrLv>
<ScopeCd Sync="TRUE" value="005"/>
</mdHrLv>
<mdHrLvName Sync="TRUE">dataset</mdHrLvName>
<refSysInfo>
<RefSystem>
<refSysID>
<identCode Sync="TRUE" code="3857"/>
<idCodeSpace Sync="TRUE">EPSG</idCodeSpace>
<idVersion Sync="TRUE">8.8(9.3.1.2)</idVersion>
</refSysID>
</RefSystem>
</refSysInfo>
<spdoinfo>
<rastinfo>
<rasttype Sync="TRUE">Pixel</rasttype>
<rowcount Sync="TRUE">91202</rowcount>
<colcount Sync="TRUE">88469</colcount>
<rastxsz Sync="TRUE">0.762002</rastxsz>
<rastysz Sync="TRUE">0.762002</rastysz>
<rastbpp Sync="TRUE">32</rastbpp>
<vrtcount Sync="TRUE">1</vrtcount>
<rastorig Sync="TRUE">Upper Left</rastorig>
<rastcmap Sync="TRUE">FALSE</rastcmap>
<rastcomp Sync="TRUE">LZ77</rastcomp>
<rastband Sync="TRUE">1</rastband>
<rastdtyp Sync="TRUE">pixel codes</rastdtyp>
<rastifor Sync="TRUE">FGDBR</rastifor>
<rastplyr Sync="TRUE">TRUE</rastplyr>
</rastinfo>
</spdoinfo>
<spref>
<horizsys>
<planar>
<planci>
<plance Sync="TRUE">row and column</plance>
<coordrep>
<absres Sync="TRUE">0.762002</absres>
<ordres Sync="TRUE">0.762002</ordres>
</coordrep>
</planci>
</planar>
</horizsys>
</spref>
<mdDateSt Sync="TRUE">20230126</mdDateSt>
</metadata>
