{
 "currentVersion": 10.91,
 "serviceDescription": "Historic Zoning maps",
 "name": "Historic_Zoning_maps/Zoning_mosaic_HC",
 "description": "Historic Zoning maps",
 "extent": {
  "xmin": 446241.2868959389,
  "ymin": 1203780.048931015,
  "xmax": 638878.7868959389,
  "ymax": 1396476.048931015,
  "spatialReference": {
   "wkid": 102659,
   "latestWkid": 2237
  }
 },
 "initialExtent": {
  "xmin": 446241.2868959389,
  "ymin": 1203780.048931015,
  "xmax": 638878.7868959389,
  "ymax": 1396476.048931015,
  "spatialReference": {
   "wkid": 102659,
   "latestWkid": 2237
  }
 },
 "fullExtent": {
  "xmin": 446241.2868959389,
  "ymin": 1203780.048931015,
  "xmax": 638878.7868959389,
  "ymax": 1396476.048931015,
  "spatialReference": {
   "wkid": 102659,
   "latestWkid": 2237
  }
 },
 "pixelSizeX": 1.5,
 "pixelSizeY": 1.5,
 "bandCount": 3,
 "pixelType": "U8",
 "minPixelSize": 0,
 "maxPixelSize": 0,
 "copyrightText": "egis",
 "serviceDataType": "esriImageServiceDataTypeRGB",
 "minValues": [
  0,
  0,
  0
 ],
 "maxValues": [
  255,
  255,
  255
 ],
 "meanValues": [
  158.90379648698,
  159.31062222731,
  154.13683062882
 ],
 "stdvValues": [
  28.10827610718,
  27.924783685253,
  28.051684144891
 ],
 "objectIdField": "",
 "fields": [],
 "capabilities": "Image,Metadata,Mensuration",
 "defaultMosaicMethod": "Center",
 "allowedMosaicMethods": "",
 "sortField": "",
 "sortValue": null,
 "sortAscending": true,
 "mosaicOperator": "First",
 "defaultCompressionQuality": 75,
 "defaultResamplingMethod": "Bilinear",
 "maxImageHeight": 4100,
 "maxImageWidth": 15000,
 "allowRasterFunction": true,
 "rasterFunctionInfos": [
  {
   "name": "None",
   "description": "",
   "help": ""
  }
 ],
 "rasterTypeInfos": [
  {
   "name": "Raster Dataset",
   "description": "Supports all ArcGIS Raster Datasets",
   "help": ""
  }
 ],
 "mensurationCapabilities": "Basic",
 "hasHistograms": true,
 "hasColormap": false,
 "hasRasterAttributeTable": false,
 "minScale": 0,
 "maxScale": 0,
 "exportTilesAllowed": false,
 "hasMultidimensions": false,
 "supportsStatistics": false,
 "supportsAdvancedQueries": false,
 "editFieldsInfo": null,
 "ownershipBasedAccessControlForRasters": null,
 "allowComputeTiePoints": false,
 "useStandardizedQueries": true,
 "advancedQueryCapabilities": {
  "useStandardizedQueries": true,
  "supportsStatistics": false,
  "supportsOrderBy": false,
  "supportsDistinct": false,
  "supportsPagination": false
 },
 "spatialReference": {
  "wkid": 102659,
  "latestWkid": 2237
 }
}
