{ "currentVersion": 10.91, "serviceDescription": "
This re-projected 2017 LiDAR DEM shows the elevation value in meters. 2017 DEM was reprojected to WGS84 Web Mercator (Auxiliary Sphere) for horizonal coordinate system from NAD 1983(2011), State Plane Florida West. This conversion used the Esri transformation WGS_1984_(ITRF08)_To_NAD_1983_2011 and a bilinear interpolation for resampling. Horizonal units is in meter.The Vertical datum is North American Vertical Datum of 1988 (NAVD88), Units in meter which was converted from U.S. Survey Feet by multiplying 0.3048. This converted DEM (unit meter) is for 3D webscene application purposes, and do not use for modelling purposes. <\/SPAN><\/SPAN><\/P> The DEMs model the bare-earth surface and are enforced with the 3D breaklines created for this project. All tiled DEMs were mosaicked by SWFWMD to cover Hillsborough County.Dewberry collected 1200 square miles of lidar data from January 31, 2017 through March 04, 2017 in Hillsborough County, Florida. The nominal pulse spacing for this project was 1 point every 0.25 meters or a nominal pulse density of 16 points per square meter. Dewberrry used proprietary procedures to classify the LAS according to project specifications: 1-Unclassified, 2-Ground, 6-Building Rooftops, 7-Low Noise, 9-Water, 17- Bridge Decks, 18-High Noise. Geometrically unreliable points, ground points within 2 feet of breaklines, and ground points within 3 feet of building rooftops have been identified with the Withheld Flag. Overage points have been identified with the Overlap Flag. The lidar data were combined with 3D breaklines compiled by Dewberry to create hydro-enforced bare-earth DEMs. The data were tiled according to the Florida Statewide Lidar Index tiling scheme with each tile covering an area of 5,000 feet by 5,000 ft. <\/SPAN><\/P><\/DIV>",
"name": "InitialInstall/n767demmosaic_WGS84_m",
"description": " This re-projected 2017 LiDAR DEM shows the elevation value in meters. 2017 DEM was reprojected to WGS84 Web Mercator (Auxiliary Sphere) for horizonal coordinate system from NAD 1983(2011), State Plane Florida West. This conversion used the Esri transformation WGS_1984_(ITRF08)_To_NAD_1983_2011 and a bilinear interpolation for resampling. Horizonal units is in meter.The Vertical datum is North American Vertical Datum of 1988 (NAVD88), Units in meter which was converted from U.S. Survey Feet by multiplying 0.3048. This converted DEM (unit meter) is for 3D webscene application purposes, and do not use for modelling purposes. <\/SPAN><\/SPAN><\/P> The DEMs model the bare-earth surface and are enforced with the 3D breaklines created for this project. All tiled DEMs were mosaicked by SWFWMD to cover Hillsborough County.Dewberry collected 1200 square miles of lidar data from January 31, 2017 through March 04, 2017 in Hillsborough County, Florida. The nominal pulse spacing for this project was 1 point every 0.25 meters or a nominal pulse density of 16 points per square meter. Dewberrry used proprietary procedures to classify the LAS according to project specifications: 1-Unclassified, 2-Ground, 6-Building Rooftops, 7-Low Noise, 9-Water, 17- Bridge Decks, 18-High Noise. Geometrically unreliable points, ground points within 2 feet of breaklines, and ground points within 3 feet of building rooftops have been identified with the Withheld Flag. Overage points have been identified with the Overlap Flag. The lidar data were combined with 3D breaklines compiled by Dewberry to create hydro-enforced bare-earth DEMs. The data were tiled according to the Florida Statewide Lidar Index tiling scheme with each tile covering an area of 5,000 feet by 5,000 ft. <\/SPAN><\/P><\/DIV>",
"extent": {
"xmin": -9201169.99987793,
"ymin": 3202835.0001220703,
"xmax": -9133756.487050904,
"ymax": 3272331.063114196,
"spatialReference": {
"wkid": 102100,
"latestWkid": 3857
}
},
"initialExtent": {
"xmin": -9201169.99987793,
"ymin": 3202835.0001220703,
"xmax": -9133756.487050904,
"ymax": 3272331.063114196,
"spatialReference": {
"wkid": 102100,
"latestWkid": 3857
}
},
"fullExtent": {
"xmin": -9201169.99987793,
"ymin": 3202835.0001220703,
"xmax": -9133756.487050904,
"ymax": 3272331.063114196,
"spatialReference": {
"wkid": 102100,
"latestWkid": 3857
}
},
"pixelSizeX": 0.7620015240030488,
"pixelSizeY": 0.7620015240030454,
"bandCount": 1,
"pixelType": "F32",
"minPixelSize": 0.018661383852976044,
"maxPixelSize": 156543.03392800014,
"copyrightText": "Geospatial Services Division, Hillsborough County.\n601 E. Kennedy Blvd., Tampa, FL 33602\n\nData sources: \n2017 Digital Elevation Model (DEM) (unit feet): Southwest Florida Water Management District, 2379 Broad Street, Brooksville, Florida 34604-6899.",
"serviceDataType": "esriImageServiceDataTypeGeneric",
"minValues": [
-10.127578735351562
],
"maxValues": [
103.95238494873047
],
"meanValues": [
17.90718321573916
],
"stdvValues": [
12.257623753365671
],
"objectIdField": "",
"fields": [],
"capabilities": "Image,Metadata,Mensuration",
"defaultMosaicMethod": "Center",
"allowedMosaicMethods": "",
"sortField": "",
"sortValue": null,
"sortAscending": true,
"mosaicOperator": "First",
"defaultCompressionQuality": 75,
"defaultResamplingMethod": "Bilinear",
"maxImageHeight": 4100,
"maxImageWidth": 15000,
"singleFusedMapCache": true,
"tileInfo": {
"rows": 256,
"cols": 256,
"dpi": 96,
"format": "LERC",
"compressionQuality": 0,
"lercError": 0.1,
"origin": {
"x": -2.0037508342787E7,
"y": 2.0037508342787E7
},
"spatialReference": {
"wkid": 102100,
"latestWkid": 3857
},
"lods": [
{
"level": 0,
"resolution": 156543.03392800014,
"scale": 5.91657527591555E8
},
{
"level": 1,
"resolution": 78271.51696399994,
"scale": 2.95828763795777E8
},
{
"level": 2,
"resolution": 39135.75848200009,
"scale": 1.47914381897889E8
},
{
"level": 3,
"resolution": 19567.87924099992,
"scale": 7.3957190948944E7
},
{
"level": 4,
"resolution": 9783.93962049996,
"scale": 3.6978595474472E7
},
{
"level": 5,
"resolution": 4891.96981024998,
"scale": 1.8489297737236E7
},
{
"level": 6,
"resolution": 2445.98490512499,
"scale": 9244648.868618
},
{
"level": 7,
"resolution": 1222.992452562495,
"scale": 4622324.434309
},
{
"level": 8,
"resolution": 611.4962262813797,
"scale": 2311162.217155
},
{
"level": 9,
"resolution": 305.74811314055756,
"scale": 1155581.108577
},
{
"level": 10,
"resolution": 152.87405657041106,
"scale": 577790.554289
},
{
"level": 11,
"resolution": 76.43702828507324,
"scale": 288895.277144
},
{
"level": 12,
"resolution": 38.21851414253662,
"scale": 144447.638572
},
{
"level": 13,
"resolution": 19.10925707126831,
"scale": 72223.819286
},
{
"level": 14,
"resolution": 9.554628535634155,
"scale": 36111.909643
},
{
"level": 15,
"resolution": 4.77731426794937,
"scale": 18055.954822
},
{
"level": 16,
"resolution": 2.388657133974685,
"scale": 9027.977411
},
{
"level": 17,
"resolution": 1.1943285668550503,
"scale": 4513.988705
},
{
"level": 18,
"resolution": 0.5971642835598172,
"scale": 2256.994353
},
{
"level": 19,
"resolution": 0.29858214164761665,
"scale": 1128.497176
},
{
"level": 20,
"resolution": 0.14929107082380833,
"scale": 564.248588
},
{
"level": 21,
"resolution": 0.07464553541190416,
"scale": 282.124294
},
{
"level": 22,
"resolution": 0.03732276770595208,
"scale": 141.062147
},
{
"level": 23,
"resolution": 0.01866138385297604,
"scale": 70.5310735
}
]
},
"cacheType": "Elevation",
"allowRasterFunction": true,
"rasterFunctionInfos": [
{
"name": "None",
"description": "",
"help": ""
}
],
"rasterTypeInfos": [
{
"name": "Raster Dataset",
"description": "Supports all ArcGIS Raster Datasets",
"help": ""
}
],
"mensurationCapabilities": "Basic",
"hasHistograms": true,
"hasColormap": false,
"hasRasterAttributeTable": false,
"minScale": 5.91657527591555E8,
"maxScale": 70.5310735,
"exportTilesAllowed": false,
"hasMultidimensions": false,
"supportsStatistics": false,
"supportsAdvancedQueries": false,
"editFieldsInfo": null,
"ownershipBasedAccessControlForRasters": null,
"allowComputeTiePoints": false,
"useStandardizedQueries": true,
"advancedQueryCapabilities": {
"useStandardizedQueries": true,
"supportsStatistics": false,
"supportsOrderBy": false,
"supportsDistinct": false,
"supportsPagination": false
},
"spatialReference": {
"wkid": 102100,
"latestWkid": 3857
}
}