{ "currentVersion": 10.91, "serviceDescription": "
The DEMs model the bare-earth surface and are enforced with the 3D breaklines created for this project. All tiled DEMs were mosaicked by SWFWMD to cover Hillsborough County.<\/SPAN><\/P> Dewberry collected 1200 square miles of lidar data from January 31, 2017 through March 04, 2017 in Hillsborough County, Florida. The nominal pulse spacing for this project was 1 point every 0.25 meters or a nominal pulse density of 16 points per square meter. Dewberrry used proprietary procedures to classify the LAS according to project specifications: 1-Unclassified, 2-Ground, 6-Building Rooftops, 7-Low Noise, 9-Water, 17- Bridge Decks, 18-High Noise. Geometrically unreliable points, ground points within 2 feet of breaklines, and ground points within 3 feet of building rooftops have been identified with the Withheld Flag. Overage points have been identified with the Overlap Flag. The lidar data were combined with 3D breaklines compiled by Dewberry to create hydro-enforced bare-earth DEMs. The data were tiled according to the Florida Statewide Lidar Index tiling scheme with each tile covering an area of 5,000 feet by 5,000 ft. The horizontal datum for the project is North American Datum of 1983(2011), Units in U.S. Survey Feet. The Vertical datum is North American Vertical Datum of 1988 (NAVD88), Units in U.S. Survey Feet. Geoid12B (Geiod Model) was used to convert ellipsoid heights to orthometric heights. The Coordinate System is State Plane Florida West, Horizontal Units in U.S. Survey Feet and Vertical Units in U.S. Survey Feet. <\/SPAN><\/P> <\/P> <\/P><\/DIV><\/DIV><\/DIV>",
"name": "initial_install/n767demmosaic",
"description": " The DEMs model the bare-earth surface and are enforced with the 3D breaklines created for this project. All tiled DEMs were mosaicked by SWFWMD to cover Hillsborough County.<\/SPAN><\/P> Dewberry collected 1200 square miles of lidar data from January 31, 2017 through March 04, 2017 in Hillsborough County, Florida. The nominal pulse spacing for this project was 1 point every 0.25 meters or a nominal pulse density of 16 points per square meter. Dewberrry used proprietary procedures to classify the LAS according to project specifications: 1-Unclassified, 2-Ground, 6-Building Rooftops, 7-Low Noise, 9-Water, 17- Bridge Decks, 18-High Noise. Geometrically unreliable points, ground points within 2 feet of breaklines, and ground points within 3 feet of building rooftops have been identified with the Withheld Flag. Overage points have been identified with the Overlap Flag. The lidar data were combined with 3D breaklines compiled by Dewberry to create hydro-enforced bare-earth DEMs. The data were tiled according to the Florida Statewide Lidar Index tiling scheme with each tile covering an area of 5,000 feet by 5,000 ft. The horizontal datum for the project is North American Datum of 1983(2011), Units in U.S. Survey Feet. The Vertical datum is North American Vertical Datum of 1988 (NAVD88), Units in U.S. Survey Feet. Geoid12B (Geiod Model) was used to convert ellipsoid heights to orthometric heights. The Coordinate System is State Plane Florida West, Horizontal Units in U.S. Survey Feet and Vertical Units in U.S. Survey Feet. <\/SPAN><\/P> <\/P> <\/P><\/DIV><\/DIV><\/DIV>",
"extent": {
"xmin": 445000.0001220703,
"ymin": 1200000.0001220703,
"xmax": 640000.0001220703,
"ymax": 1400000.0001220703,
"spatialReference": {
"wkid": 103023,
"latestWkid": 6443,
"vcsWkid": 105703,
"latestVcsWkid": 6360
}
},
"initialExtent": {
"xmin": 445000.0001220703,
"ymin": 1200000.0001220703,
"xmax": 640000.0001220703,
"ymax": 1400000.0001220703,
"spatialReference": {
"wkid": 103023,
"latestWkid": 6443,
"vcsWkid": 105703,
"latestVcsWkid": 6360
}
},
"fullExtent": {
"xmin": 445000.0001220703,
"ymin": 1200000.0001220703,
"xmax": 640000.0001220703,
"ymax": 1400000.0001220703,
"spatialReference": {
"wkid": 103023,
"latestWkid": 6443,
"vcsWkid": 105703,
"latestVcsWkid": 6360
}
},
"heightModelInfo": {
"heightModel": "gravity_related_height",
"vertCRS": "NAVD88_height_(ftUS)",
"heightUnit": "us-foot"
},
"pixelSizeX": 2.5,
"pixelSizeY": 2.5,
"bandCount": 1,
"pixelType": "F32",
"minPixelSize": 0,
"maxPixelSize": 0,
"copyrightText": "Southwest Florida Water Management District (SWFWMD), Mapping & GIS, 2379 Broad Street, Brooksville, Florida, 34604, 352-796-7211 x 420.",
"serviceDataType": "esriImageServiceDataTypeGeneric",
"minValues": [
-33.320350646972656
],
"maxValues": [
341.2799987792969
],
"meanValues": [
58.757045477435256
],
"stdvValues": [
40.23593213745526
],
"objectIdField": "",
"fields": [],
"capabilities": "Image,Metadata,Mensuration",
"defaultMosaicMethod": "Center",
"allowedMosaicMethods": "",
"sortField": "",
"sortValue": null,
"sortAscending": true,
"mosaicOperator": "First",
"defaultCompressionQuality": 75,
"defaultResamplingMethod": "Bilinear",
"maxImageHeight": 4100,
"maxImageWidth": 15000,
"allowRasterFunction": true,
"rasterFunctionInfos": [
{
"name": "None",
"description": "",
"help": ""
}
],
"rasterTypeInfos": [
{
"name": "Raster Dataset",
"description": "Supports all ArcGIS Raster Datasets",
"help": ""
}
],
"mensurationCapabilities": "Basic",
"hasHistograms": false,
"hasColormap": false,
"hasRasterAttributeTable": false,
"minScale": 0,
"maxScale": 0,
"exportTilesAllowed": false,
"hasMultidimensions": false,
"supportsStatistics": false,
"supportsAdvancedQueries": false,
"editFieldsInfo": null,
"ownershipBasedAccessControlForRasters": null,
"allowComputeTiePoints": false,
"useStandardizedQueries": true,
"advancedQueryCapabilities": {
"useStandardizedQueries": true,
"supportsStatistics": false,
"supportsOrderBy": false,
"supportsDistinct": false,
"supportsPagination": false
},
"spatialReference": {
"wkid": 103023,
"latestWkid": 6443,
"vcsWkid": 105703,
"latestVcsWkid": 6360
}
}