View In:
ArcGIS JavaScript
ArcGIS Online Map Viewer
ArcGIS Earth
ArcMap
View Footprint In:
ArcGIS Online Map Viewer
Service Description: This re-projected 2017 LiDAR DEM shows the elevation value in meters. 2017 DEM was reprojected to WGS84 Web Mercator (Auxiliary Sphere) for horizonal coordinate system from NAD 1983(2011), State Plane Florida West. This conversion used the Esri transformation WGS_1984_(ITRF08)_To_NAD_1983_2011 and a bilinear interpolation for resampling. Horizonal units is in meter.The Vertical datum is North American Vertical Datum of 1988 (NAVD88), Units in meter which was converted from U.S. Survey Feet by multiplying 0.3048. This converted DEM (unit meter) is for 3D webscene application purposes, and do not use for modelling purposes.
The DEMs model the bare-earth surface and are enforced with the 3D breaklines created for this project. All tiled DEMs were mosaicked by SWFWMD to cover Hillsborough County.Dewberry collected 1200 square miles of lidar data from January 31, 2017 through March 04, 2017 in Hillsborough County, Florida. The nominal pulse spacing for this project was 1 point every 0.25 meters or a nominal pulse density of 16 points per square meter. Dewberrry used proprietary procedures to classify the LAS according to project specifications: 1-Unclassified, 2-Ground, 6-Building Rooftops, 7-Low Noise, 9-Water, 17- Bridge Decks, 18-High Noise. Geometrically unreliable points, ground points within 2 feet of breaklines, and ground points within 3 feet of building rooftops have been identified with the Withheld Flag. Overage points have been identified with the Overlap Flag. The lidar data were combined with 3D breaklines compiled by Dewberry to create hydro-enforced bare-earth DEMs. The data were tiled according to the Florida Statewide Lidar Index tiling scheme with each tile covering an area of 5,000 feet by 5,000 ft.
Name: ESRITest/n767demmosaic_WGS84_m
Description: This re-projected 2017 LiDAR DEM shows the elevation value in meters. 2017 DEM was reprojected to WGS84 Web Mercator (Auxiliary Sphere) for horizonal coordinate system from NAD 1983(2011), State Plane Florida West. This conversion used the Esri transformation WGS_1984_(ITRF08)_To_NAD_1983_2011 and a bilinear interpolation for resampling. Horizonal units is in meter.The Vertical datum is North American Vertical Datum of 1988 (NAVD88), Units in meter which was converted from U.S. Survey Feet by multiplying 0.3048. This converted DEM (unit meter) is for 3D webscene application purposes, and do not use for modelling purposes.
The DEMs model the bare-earth surface and are enforced with the 3D breaklines created for this project. All tiled DEMs were mosaicked by SWFWMD to cover Hillsborough County.Dewberry collected 1200 square miles of lidar data from January 31, 2017 through March 04, 2017 in Hillsborough County, Florida. The nominal pulse spacing for this project was 1 point every 0.25 meters or a nominal pulse density of 16 points per square meter. Dewberrry used proprietary procedures to classify the LAS according to project specifications: 1-Unclassified, 2-Ground, 6-Building Rooftops, 7-Low Noise, 9-Water, 17- Bridge Decks, 18-High Noise. Geometrically unreliable points, ground points within 2 feet of breaklines, and ground points within 3 feet of building rooftops have been identified with the Withheld Flag. Overage points have been identified with the Overlap Flag. The lidar data were combined with 3D breaklines compiled by Dewberry to create hydro-enforced bare-earth DEMs. The data were tiled according to the Florida Statewide Lidar Index tiling scheme with each tile covering an area of 5,000 feet by 5,000 ft.
Single Fused Map Cache: true
Tile Info:
- Height: 256
- Width: 256
- DPI: 96
-
Levels of Detail: 24
-
Level ID: 1
[ Start Tile, End Tile ]
- Resolution: 78271.5169639999
- Scale: 2.95828763795777E8
-
Level ID: 2
[ Start Tile, End Tile ]
- Resolution: 39135.7584820001
- Scale: 1.47914381897889E8
-
Level ID: 3
[ Start Tile, End Tile ]
- Resolution: 19567.8792409999
- Scale: 7.3957190948944E7
-
Level ID: 4
[ Start Tile, End Tile ]
- Resolution: 9783.93962049996
- Scale: 3.6978595474472E7
-
Level ID: 5
[ Start Tile, End Tile ]
- Resolution: 4891.96981024998
- Scale: 1.8489297737236E7
- Format: LERC
- Compression Quality: 0.0
- LERC Error: 0.1
- Origin: X: -2.0037508342787E7
Y: 2.0037508342787E7
- Spatial Reference: 102100
(3857)
Storage Info:
- Storage Format: esriMapCacheStorageModeCompactV2
- Packet Size: 128
Extent:
XMin: -9201169.99987793
YMin: 3202835.0001220703
XMax: -9133756.487050904
YMax: 3272331.063114196
Spatial Reference: 102100
(3857)
Initial Extent:
XMin: -9201169.99987793
YMin: 3202835.0001220703
XMax: -9133756.487050904
YMax: 3272331.063114196
Spatial Reference: 102100
(3857)
Full Extent:
XMin: -9201169.99987793
YMin: 3202835.0001220703
XMax: -9133756.487050904
YMax: 3272331.063114196
Spatial Reference: 102100
(3857)
Pixel Size X: 0.7620015240030488
Pixel Size Y: 0.7620015240030454
Band Count: 1
Pixel Type: F32
RasterFunction Infos: {"rasterFunctionInfos": [{
"name": "None",
"description": "",
"help": ""
}]}
Mensuration Capabilities: Basic
Has Histograms: true
Has Colormap: false
Has Multi Dimensions : false
Rendering Rule:
Min Scale: 577790.554289
Max Scale: 2256.994353
Min LOD: 10
Max LOD: 18
Copyright Text: Geospatial Services Division, Hillsborough County.601 E. Kennedy Blvd., Tampa, FL 33602Data sources: 2017 Digital Elevation Model (DEM) (unit feet): Southwest Florida Water Management District, 2379 Broad Street, Brooksville, Florida 34604-6899.
Service Data Type: esriImageServiceDataTypeGeneric
Min Values: -10.127578735351562
Max Values: 103.95238494873047
Mean Values: 17.90718321573916
Standard Deviation Values: 12.257623753365671
Object ID Field:
Fields:
None
Default Mosaic Method: Center
Allowed Mosaic Methods:
SortField:
SortValue: null
Mosaic Operator: First
Default Compression Quality: 10000
Default Resampling Method: Bilinear
Max Record Count: null
Max Image Height: 4100
Max Image Width: 15000
Max Download Image Count: null
Max Mosaic Image Count: null
Allow Raster Function: true
Allow Copy: true
Allow Analysis: true
Allow Compute TiePoints: false
Supports Statistics: false
Supports Advanced Queries: false
Use StandardizedQueries: true
Raster Type Infos:
Name: Raster Dataset
Description: Supports all ArcGIS Raster Datasets
Help:
Has Raster Attribute Table: false
Edit Fields Info: null
Ownership Based AccessControl For Rasters: null
Child Resources:
Info
Histograms
Statistics
Key Properties
Legend
Raster Function Infos
Supported Operations:
Export Image
Identify
Measure
Compute Histograms
Compute Statistics Histograms
Get Samples
Compute Class Statistics
Query Boundary
Compute Pixel Location
Compute Angles
Validate
Project