View In:
ArcGIS JavaScript
ArcGIS Online Map Viewer
ArcGIS Earth
ArcMap
View Footprint In:
ArcGIS Online Map Viewer
Service Description: This aerial mosaic dataset was produced from 1938 -1939 historical black and white aerial photographs for Hillsborough County, Florida.The historical aerial tiles of 1938-1939 Aerial Photographs were from FDOT Aerial Archive and Theonline Aerial Photography: Florida Collection(http://ufdc.ufl.edu/aerials), The University of Florida Map & Imagery Library.These aerials were photographed from November 1938 through January 1939 and published by United States Department of AgricultureThese aerial photographs were georeferenced, clipped/cropped and mosaicked them to create one image dataset covering Hillsborough County. Please note, the images are intended for education, historical evaluations, and general historical information only, not for measurement use or as legal documents.
Name: Aerials/HC_Aerials1938_WGS
Description: This aerial mosaic dataset was produced from 1938 -1939 historical black and white aerial photographs for Hillsborough County, Florida.The historical aerial tiles of 1938-1939 Aerial Photographs were from FDOT Aerial Archive and Theonline Aerial Photography: Florida Collection(http://ufdc.ufl.edu/aerials), The University of Florida Map & Imagery Library.These aerials were photographed from November 1938 through January 1939 and published by United States Department of AgricultureThese aerial photographs were georeferenced, clipped/cropped and mosaicked them to create one image dataset covering Hillsborough County. Please note, the images are intended for education, historical evaluations, and general historical information only, not for measurement use or as legal documents.
Single Fused Map Cache: false
Extent:
XMin: 439826.7590845622
YMin: 1202193.8787718916
XMax: 644831.7590845622
YMax: 1396811.3787718916
Spatial Reference: 102659
(2237)
Initial Extent:
XMin: 439826.7590845622
YMin: 1202193.8787718916
XMax: 644831.7590845622
YMax: 1396811.3787718916
Spatial Reference: 102659
(2237)
Full Extent:
XMin: 439826.7590845622
YMin: 1202193.8787718916
XMax: 644831.7590845622
YMax: 1396811.3787718916
Spatial Reference: 102659
(2237)
Pixel Size X: 2.5
Pixel Size Y: 2.5
Band Count: 1
Pixel Type: U8
RasterFunction Infos: {"rasterFunctionInfos": [{
"name": "None",
"description": "",
"help": ""
}]}
Mensuration Capabilities: Basic
Has Histograms: true
Has Colormap: false
Has Multi Dimensions : false
Rendering Rule:
Min Scale: 0
Max Scale: 0
Copyright Text: egis
Service Data Type: esriImageServiceDataTypeGeneric
Min Values: 0
Max Values: 255
Mean Values: 89.161024932487
Standard Deviation Values: 57.061866102196
Object ID Field:
Fields:
None
Default Mosaic Method: Center
Allowed Mosaic Methods:
SortField:
SortValue: null
Mosaic Operator: First
Default Compression Quality: 75
Default Resampling Method: Bilinear
Max Record Count: null
Max Image Height: 4100
Max Image Width: 15000
Max Download Image Count: null
Max Mosaic Image Count: null
Allow Raster Function: true
Allow Copy: null
Allow Analysis: null
Allow Compute TiePoints: false
Supports Statistics: false
Supports Advanced Queries: false
Use StandardizedQueries: true
Raster Type Infos:
Name: Raster Dataset
Description: Supports all ArcGIS Raster Datasets
Help:
Has Raster Attribute Table: false
Edit Fields Info: null
Ownership Based AccessControl For Rasters: null
Child Resources:
Info
Histograms
Key Properties
Legend
Raster Function Infos
Supported Operations:
Export Image
Identify
Measure
Compute Histograms
Compute Statistics Histograms
Get Samples
Compute Class Statistics
Query Boundary
Compute Pixel Location
Compute Angles
Validate
Project